BEGIN:VCALENDAR
VERSION:2.0
PRODID:-//Naples Botanical Garden - ECPv6.15.7//NONSGML v1.0//EN
CALSCALE:GREGORIAN
METHOD:PUBLISH
X-WR-CALNAME:Naples Botanical Garden
X-ORIGINAL-URL:https://www.naplesgarden.org
X-WR-CALDESC:Events for Naples Botanical Garden
REFRESH-INTERVAL;VALUE=DURATION:PT1H
X-Robots-Tag:noindex
X-PUBLISHED-TTL:PT1H
BEGIN:VTIMEZONE
TZID:America/New_York
BEGIN:DAYLIGHT
TZOFFSETFROM:-0500
TZOFFSETTO:-0400
TZNAME:EDT
DTSTART:20250309T070000
END:DAYLIGHT
BEGIN:STANDARD
TZOFFSETFROM:-0400
TZOFFSETTO:-0500
TZNAME:EST
DTSTART:20251102T060000
END:STANDARD
BEGIN:DAYLIGHT
TZOFFSETFROM:-0500
TZOFFSETTO:-0400
TZNAME:EDT
DTSTART:20260308T070000
END:DAYLIGHT
BEGIN:STANDARD
TZOFFSETFROM:-0400
TZOFFSETTO:-0500
TZNAME:EST
DTSTART:20261101T060000
END:STANDARD
BEGIN:DAYLIGHT
TZOFFSETFROM:-0500
TZOFFSETTO:-0400
TZNAME:EDT
DTSTART:20270314T070000
END:DAYLIGHT
BEGIN:STANDARD
TZOFFSETFROM:-0400
TZOFFSETTO:-0500
TZNAME:EST
DTSTART:20271107T060000
END:STANDARD
END:VTIMEZONE
BEGIN:VEVENT
DTSTART;TZID=America/New_York:20260314T080000
DTEND;TZID=America/New_York:20260314T170000
DTSTAMP:20260424T204536
CREATED:20240916T173335Z
LAST-MODIFIED:20260310T125922Z
UID:10020191-1773475200-1773507600@www.naplesgarden.org
SUMMARY:Naples Flower Show & Garden Market
DESCRIPTION:Join us March 13 & 14 for the annual Naples Flower Show & Garden Market\, presented in partnership with Naples Garden Club. \n\n\n\nAs one of Florida’s largest juried flower shows\, the event showcases floral designs\, botanical arts\, engaging displays\, and live demonstrations—all surrounded by the tropical beauty of our world-class Garden. Always a highlight\, the garden market features a curated selection of vendors offering plants\, décor\, and more. \n\n\n\nFriday\, March 13\, the Naples Flower Show & Garden Market will be open late with extended hours for guests to enjoy the show until 8pm during Friday After 5. \n\n\n\n\nPurchase Garden Admission Now\n\n\n\n\n \n\n\n\nThis event is included with Garden admission; free for Members of Naples Garden Club and Naples Botanical Garden. \n\n\n\n\n\n\nEvent Schedule\n\n\n\n\n\nActivities\n\n\n\nFamily Games & Activities Ongoing Friday & SaturdayPerformance Lawn \n\n\n\nWONDER: Fabulous Flowers10am – 12pmPerformance Lawn \n\n\n\nLittle Living Canvas12 – 2pmKapnick Caribbean Garden \n\n\n\n\n\nDemonstrations\n\n\n\nNaples Garden Club Floral Arrangement11am & 1pmSustaining Leadership Council Event Plaza \n\n\n\nGetting Creative with Flower Crowns11:30am & 1:30pmSustaining Leadership Council Event Plaza \n\n\n\n\n\nEntertainment\n\n\n\nSWFL Circus PerformersRoaming \n\n\n\nFriday12 – 1pm\, 2 – 3pm\, 6 – 7pm**during Friday After 5 \n\n\n\nSaturday10 – 11am\, 12 – 1pm\, 2 – 3pm  \n\n\n\n\n\nVendors\n\n\n\n\nAaron Apsley\n\n\n\nDena Lyons\n\n\n\nEmpty Bowls\n\n\n\nFerry Farms\n\n\n\nLeigh Herndon \n\n\n\nMa Belle Provence\n\n\n\nMary Limont Design\n\n\n\nRita’s \n\n\n\nSo Orchids\n\n\n\nStacy’s Jewelry Collection\n\n\n\nSugar High Cotton Candy\n\n\n\nSWFL Circus Company\n\n\n\n\n\n\n\n\nSpecialty Programming\n\n\n\n\n\nColorful Croton Paint & Sip\n\n\n\nFriday\, March 13\, 6 – 7pm \n\n\n\nEnjoy a complimentary beer or glass of wine while painting a colorful croton for a relaxing evening at the Garden. Follow along with a Garden educator while you learn a few fun facts about the plants on your canvas.    \n\n\n\n$40 Members / $50 Non-Members; includes Garden admission \n\n\n\n\nSold Out\n\n\n\n\n\n\n\n\n\n\n\n\nEvery Garden admission ticket or membership purchase helps to support Naples Botanical Garden’s conservation efforts.\n\n\n\n\n\n\n\n\n\n\n\n\n\nPresented in partnership with
URL:https://www.naplesgarden.org/events/naples-flower-show-garden-market-2/2026-03-14/
CATEGORIES:Festivals
ATTACH;FMTTYPE=image/jpeg:https://www.naplesgarden.org/wp-content/uploads/2024/09/Flower_Show_2025_0036-1-scaled.jpg
END:VEVENT
BEGIN:VEVENT
DTSTART;TZID=America/New_York:20260314T080000
DTEND;TZID=America/New_York:20260314T170000
DTSTAMP:20260424T204536
CREATED:20250722T150339Z
LAST-MODIFIED:20260123T134351Z
UID:10019796-1773475200-1773507600@www.naplesgarden.org
SUMMARY:ChromaFlora
DESCRIPTION:ChromaFlora dives deeper into the Garden’s theme\, Naples Botanical Garden: A Living Canvas\, through a celebration of color. In a garden space inspired by the painter’s palette\, we’ll explore the botanical origin of pigments\, the biological reason for colorful floral hues\, and the use of color in landscape design. This exhibit will be on display January 24 – May 25\, 2026. \n\n\n\n\n\n\n\n\nPurchase Garden Admission\n\n\n\nSponsor ChromaFlora\n\n\n\n\nIncluded with Garden admission; free for Members \n\n\n\nEvery Garden admission ticket or membership purchase helps to support Naples Botanical Garden’s conservation efforts.\n\n\n\n\n\n\n\n\n\n\n\nFrom Our Blog\n\n\nWhat is Color?This winter\, the Garden will burst into color with a new\, staff-designed exhibition\, ChromaFlora. While designing this upcoming exhibit\, staff members involved continually found themselves… \n\n\n\n\n\n\n\nSUPPORTED BY \n\n\n\nWintrust Banking Center
URL:https://www.naplesgarden.org/events/chromaflora/2026-03-14/
ATTACH;FMTTYPE=image/jpeg:https://www.naplesgarden.org/wp-content/uploads/2026/01/Chroma_Flora_01_13_26-6-scaled.jpg
END:VEVENT
BEGIN:VEVENT
DTSTART;TZID=America/New_York:20260314T090000
DTEND;TZID=America/New_York:20260314T170000
DTSTAMP:20260424T204536
CREATED:20251107T142632Z
LAST-MODIFIED:20260122T192352Z
UID:10021130-1773478800-1773507600@www.naplesgarden.org
SUMMARY:Blooming at Work
DESCRIPTION:On view January 17 – July 12\, 2026\, in Fogg Café \n\n\n\nThis juried exhibition features creativity cultivated by the team at Naples Botanical Garden.  \n\n\n\nThe Garden is a Living Canvas—of plants and of people. Our team works together to conserve the plants and habitats of the tropics\, cultivate beauty\, offer knowledge\, and inspire the protection of nature. Working in Conservation\, Education\, Finance\, Horticulture\, Natural Resources\, and Operations\, the exhibiting artists have collectively spent 83 years exploring the Garden’s landscapes\, drawing on its endless inspiration to create the works you see today. \n\n\n\n\nPurchase Garden Admission\n\n\n\n\n \n\n\n\nIncluded with Garden admission; free for Members \n\n\n\nEvery Garden admission ticket or membership purchase helps to support Naples Botanical Garden’s conservation efforts.
URL:https://www.naplesgarden.org/events/blooming-at-work/2026-03-14/
ATTACH;FMTTYPE=image/png:https://www.naplesgarden.org/wp-content/uploads/2025/11/1125_NGB_BloomingAtWork_LanyardArt-scaled.png
END:VEVENT
BEGIN:VEVENT
DTSTART;TZID=America/New_York:20260314T100000
DTEND;TZID=America/New_York:20260314T120000
DTSTAMP:20260424T204536
CREATED:20250728T152750Z
LAST-MODIFIED:20250829T152454Z
UID:10020637-1773482400-1773489600@www.naplesgarden.org
SUMMARY:W.O.N.D.E.R.
DESCRIPTION:Join us for our family-friendly W.O.N.D.E.R. in the Garden program! Together families will imagine\, create\, and explore the Garden with fun lessons and activities. All W.O.N.D.E.R. programs are included with Garden admission for kids and adults. The program takes place Friday – Monday\, 10am – 12pm\, on the Performance Lawn in Wonder Circle. No registration necessary. \n\n\n\n\nPurchase Garden Admission\n\n\n\n\nIncluded with Garden admission; free for Members.  \n\n\n\nEvery Garden admission ticket or membership purchase helps to support Naples Botanical Garden’s conservation efforts.
URL:https://www.naplesgarden.org/events/w-o-n-d-e-r-2/2026-03-14/
CATEGORIES:Education
ATTACH;FMTTYPE=image/jpeg:https://www.naplesgarden.org/wp-content/uploads/2025/07/W.O.N.D.E.R._03_25_25-2-scaled-e1753716504626.jpg
END:VEVENT
BEGIN:VEVENT
DTSTART;TZID=America/New_York:20260314T110000
DTEND;TZID=America/New_York:20260314T133000
DTSTAMP:20260424T204536
CREATED:20250728T141024Z
LAST-MODIFIED:20250916T172508Z
UID:10020354-1773486000-1773495000@www.naplesgarden.org
SUMMARY:Dig Deeper
DESCRIPTION:Join Garden staff for a chat about a different topic every day. Learn about what we do and how we do it\, and start seeing the Garden from a new perspective. Topics might include the plant origins of common spices\, orchid care\, and much more! No registration necessary.   \n\n\n\nDaily\, 11 – 11:30am & 1 – 1:30pm. View daily schedule upon arrival for details. \n\n\n\n\nPurchase Garden Admisson\n\n\n\n\nIncluded with Garden admission; free for Members. \n\n\n\nEvery Garden admission ticket or membership purchase helps to support Naples Botanical Garden’s conservation efforts.
URL:https://www.naplesgarden.org/events/dig-deeper/2026-03-14/
CATEGORIES:Education
ATTACH;FMTTYPE=image/jpeg:https://www.naplesgarden.org/wp-content/uploads/2023/08/Dig-Deeper-Coastal-Dunes-14-scaled-e1753711871145.jpg
END:VEVENT
END:VCALENDAR