BEGIN:VCALENDAR
VERSION:2.0
PRODID:-//Naples Botanical Garden - ECPv6.15.7//NONSGML v1.0//EN
CALSCALE:GREGORIAN
METHOD:PUBLISH
X-ORIGINAL-URL:https://www.naplesgarden.org
X-WR-CALDESC:Events for Naples Botanical Garden
REFRESH-INTERVAL;VALUE=DURATION:PT1H
X-Robots-Tag:noindex
X-PUBLISHED-TTL:PT1H
BEGIN:VTIMEZONE
TZID:America/New_York
BEGIN:DAYLIGHT
TZOFFSETFROM:-0500
TZOFFSETTO:-0400
TZNAME:EDT
DTSTART:20240310T070000
END:DAYLIGHT
BEGIN:STANDARD
TZOFFSETFROM:-0400
TZOFFSETTO:-0500
TZNAME:EST
DTSTART:20241103T060000
END:STANDARD
BEGIN:DAYLIGHT
TZOFFSETFROM:-0500
TZOFFSETTO:-0400
TZNAME:EDT
DTSTART:20250309T070000
END:DAYLIGHT
BEGIN:STANDARD
TZOFFSETFROM:-0400
TZOFFSETTO:-0500
TZNAME:EST
DTSTART:20251102T060000
END:STANDARD
BEGIN:DAYLIGHT
TZOFFSETFROM:-0500
TZOFFSETTO:-0400
TZNAME:EDT
DTSTART:20260308T070000
END:DAYLIGHT
BEGIN:STANDARD
TZOFFSETFROM:-0400
TZOFFSETTO:-0500
TZNAME:EST
DTSTART:20261101T060000
END:STANDARD
END:VTIMEZONE
BEGIN:VEVENT
DTSTART;TZID=America/New_York:20251115T080000
DTEND;TZID=America/New_York:20251115T150000
DTSTAMP:20260420T063312
CREATED:20251028T192010Z
LAST-MODIFIED:20251113T142440Z
UID:10021073-1763193600-1763218800@www.naplesgarden.org
SUMMARY:Naples Botanical Garden Closing at 3pm
DESCRIPTION:Naples Botanical Garden will be closing at 3pm on Saturday\, November 15\, for a private event. We will reopen at 9am (8am for Members) on Sunday\, November 16.  \n\n\n\n\nHost Your Private Event at the Garden
URL:https://www.naplesgarden.org/events/naples-botanical-garden-closing-at-3pm/
CATEGORIES:Community
ATTACH;FMTTYPE=image/jpeg:https://www.naplesgarden.org/wp-content/uploads/2025/10/Island_marlberry-1-scaled.jpg
END:VEVENT
BEGIN:VEVENT
DTSTART;TZID=America/New_York:20251125T090000
DTEND;TZID=America/New_York:20251125T120000
DTSTAMP:20260420T063312
CREATED:20251017T195245Z
LAST-MODIFIED:20251017T201922Z
UID:10021072-1764061200-1764072000@www.naplesgarden.org
SUMMARY:Community Preserve Management
DESCRIPTION:Curious about how to better manage the natural preserve in your community?\n\n\n\nJoin Rookery Bay National Estuarine Research Reserve and Naples Botanical Garden for an interactive workshop designed for HOA members and Community Association Managers. Discover more about preserves under your care and the different methods of management. This event offers a unique opportunity to learn\, connect\, and get answers to your questions from seasoned professionals.  \n\n\n\nTopics of Discussion\n\n\n\n\nWhat is a preserve and why do they matter?\n\n\n\nUnderstanding vital ecosystem services provided by preserves\n\n\n\nNavigating preserve regulations and compliance with ease\n\n\n\nApplying prescribed fire management techniques\n\n\n\n\n\n\n\n\nLocation: Naples Botanical Garden\, FGCU Kapnick CenterFee: $10 / person \n\n\n\n\nRegister Now
URL:https://www.naplesgarden.org/events/community-preserve-management/
CATEGORIES:Community
ATTACH;FMTTYPE=image/jpeg:https://www.naplesgarden.org/wp-content/uploads/2024/03/Preserve-12-23-1-scaled.jpg
END:VEVENT
END:VCALENDAR