BEGIN:VCALENDAR
VERSION:2.0
PRODID:-//Naples Botanical Garden - ECPv6.15.7//NONSGML v1.0//EN
CALSCALE:GREGORIAN
METHOD:PUBLISH
X-WR-CALNAME:Naples Botanical Garden
X-ORIGINAL-URL:https://www.naplesgarden.org
X-WR-CALDESC:Events for Naples Botanical Garden
REFRESH-INTERVAL;VALUE=DURATION:PT1H
X-Robots-Tag:noindex
X-PUBLISHED-TTL:PT1H
BEGIN:VTIMEZONE
TZID:America/New_York
BEGIN:DAYLIGHT
TZOFFSETFROM:-0500
TZOFFSETTO:-0400
TZNAME:EDT
DTSTART:20240310T070000
END:DAYLIGHT
BEGIN:STANDARD
TZOFFSETFROM:-0400
TZOFFSETTO:-0500
TZNAME:EST
DTSTART:20241103T060000
END:STANDARD
BEGIN:DAYLIGHT
TZOFFSETFROM:-0500
TZOFFSETTO:-0400
TZNAME:EDT
DTSTART:20250309T070000
END:DAYLIGHT
BEGIN:STANDARD
TZOFFSETFROM:-0400
TZOFFSETTO:-0500
TZNAME:EST
DTSTART:20251102T060000
END:STANDARD
BEGIN:DAYLIGHT
TZOFFSETFROM:-0500
TZOFFSETTO:-0400
TZNAME:EDT
DTSTART:20260308T070000
END:DAYLIGHT
BEGIN:STANDARD
TZOFFSETFROM:-0400
TZOFFSETTO:-0500
TZNAME:EST
DTSTART:20261101T060000
END:STANDARD
END:VTIMEZONE
BEGIN:VEVENT
DTSTART;TZID=America/New_York:20250918T110000
DTEND;TZID=America/New_York:20250918T113000
DTSTAMP:20260425T090346
CREATED:20250422T142602Z
LAST-MODIFIED:20250909T130233Z
UID:10018396-1758193200-1758195000@www.naplesgarden.org
SUMMARY:Dig Deeper
DESCRIPTION:Join Garden staff for a chat about a different topic every day. Learn about what we do and how we do it\, and start seeing the Garden from a new perspective. Topics might include the plant origins of common spices\, orchid care\, and much more! No registration necessary.   \n\n\n\nDaily\, 11 – 11:30am. View daily schedule upon arrival for details. \n\n\n\n\nPurchase Garden Admission\n\n\n\n\nIncluded with Garden admission; free for Members.  \n\n\n\nEvery Garden admission ticket or membership purchase helps to support Naples Botanical Garden’s conservation efforts.
URL:https://www.naplesgarden.org/events/dig-deeper-summer/2025-09-18/
CATEGORIES:Education
ATTACH;FMTTYPE=image/jpeg:https://www.naplesgarden.org/wp-content/uploads/2023/11/Dig-Deeper-Coastal-Dunes-14-scaled.jpg
END:VEVENT
END:VCALENDAR