BEGIN:VCALENDAR
VERSION:2.0
PRODID:-//Naples Botanical Garden - ECPv6.15.7//NONSGML v1.0//EN
CALSCALE:GREGORIAN
METHOD:PUBLISH
X-ORIGINAL-URL:https://www.naplesgarden.org
X-WR-CALDESC:Events for Naples Botanical Garden
REFRESH-INTERVAL;VALUE=DURATION:PT1H
X-Robots-Tag:noindex
X-PUBLISHED-TTL:PT1H
BEGIN:VTIMEZONE
TZID:America/New_York
BEGIN:DAYLIGHT
TZOFFSETFROM:-0500
TZOFFSETTO:-0400
TZNAME:EDT
DTSTART:20240310T070000
END:DAYLIGHT
BEGIN:STANDARD
TZOFFSETFROM:-0400
TZOFFSETTO:-0500
TZNAME:EST
DTSTART:20241103T060000
END:STANDARD
BEGIN:DAYLIGHT
TZOFFSETFROM:-0500
TZOFFSETTO:-0400
TZNAME:EDT
DTSTART:20250309T070000
END:DAYLIGHT
BEGIN:STANDARD
TZOFFSETFROM:-0400
TZOFFSETTO:-0500
TZNAME:EST
DTSTART:20251102T060000
END:STANDARD
BEGIN:DAYLIGHT
TZOFFSETFROM:-0500
TZOFFSETTO:-0400
TZNAME:EDT
DTSTART:20260308T070000
END:DAYLIGHT
BEGIN:STANDARD
TZOFFSETFROM:-0400
TZOFFSETTO:-0500
TZNAME:EST
DTSTART:20261101T060000
END:STANDARD
END:VTIMEZONE
BEGIN:VEVENT
DTSTART;TZID=America/New_York:20250919T100000
DTEND;TZID=America/New_York:20250919T120000
DTSTAMP:20260425T071757
CREATED:20250728T152750Z
LAST-MODIFIED:20250829T152454Z
UID:10020538-1758276000-1758283200@www.naplesgarden.org
SUMMARY:W.O.N.D.E.R.
DESCRIPTION:Join us for our family-friendly W.O.N.D.E.R. in the Garden program! Together families will imagine\, create\, and explore the Garden with fun lessons and activities. All W.O.N.D.E.R. programs are included with Garden admission for kids and adults. The program takes place Friday – Monday\, 10am – 12pm\, on the Performance Lawn in Wonder Circle. No registration necessary. \n\n\n\n\nPurchase Garden Admission\n\n\n\n\nIncluded with Garden admission; free for Members.  \n\n\n\nEvery Garden admission ticket or membership purchase helps to support Naples Botanical Garden’s conservation efforts.
URL:https://www.naplesgarden.org/events/w-o-n-d-e-r-2/2025-09-19/
CATEGORIES:Education
ATTACH;FMTTYPE=image/jpeg:https://www.naplesgarden.org/wp-content/uploads/2025/07/W.O.N.D.E.R._03_25_25-2-scaled-e1753716504626.jpg
END:VEVENT
BEGIN:VEVENT
DTSTART;TZID=America/New_York:20250919T110000
DTEND;TZID=America/New_York:20250919T113000
DTSTAMP:20260425T071757
CREATED:20250422T142602Z
LAST-MODIFIED:20250909T130233Z
UID:10018397-1758279600-1758281400@www.naplesgarden.org
SUMMARY:Dig Deeper
DESCRIPTION:Join Garden staff for a chat about a different topic every day. Learn about what we do and how we do it\, and start seeing the Garden from a new perspective. Topics might include the plant origins of common spices\, orchid care\, and much more! No registration necessary.   \n\n\n\nDaily\, 11 – 11:30am. View daily schedule upon arrival for details. \n\n\n\n\nPurchase Garden Admission\n\n\n\n\nIncluded with Garden admission; free for Members.  \n\n\n\nEvery Garden admission ticket or membership purchase helps to support Naples Botanical Garden’s conservation efforts.
URL:https://www.naplesgarden.org/events/dig-deeper-summer/2025-09-19/
CATEGORIES:Education
ATTACH;FMTTYPE=image/jpeg:https://www.naplesgarden.org/wp-content/uploads/2023/11/Dig-Deeper-Coastal-Dunes-14-scaled.jpg
END:VEVENT
END:VCALENDAR