BEGIN:VCALENDAR
VERSION:2.0
PRODID:-//Naples Botanical Garden - ECPv6.15.7//NONSGML v1.0//EN
CALSCALE:GREGORIAN
METHOD:PUBLISH
X-WR-CALNAME:Naples Botanical Garden
X-ORIGINAL-URL:https://www.naplesgarden.org
X-WR-CALDESC:Events for Naples Botanical Garden
REFRESH-INTERVAL;VALUE=DURATION:PT1H
X-Robots-Tag:noindex
X-PUBLISHED-TTL:PT1H
BEGIN:VTIMEZONE
TZID:America/New_York
BEGIN:DAYLIGHT
TZOFFSETFROM:-0500
TZOFFSETTO:-0400
TZNAME:EDT
DTSTART:20260308T070000
END:DAYLIGHT
BEGIN:STANDARD
TZOFFSETFROM:-0400
TZOFFSETTO:-0500
TZNAME:EST
DTSTART:20261101T060000
END:STANDARD
BEGIN:DAYLIGHT
TZOFFSETFROM:-0500
TZOFFSETTO:-0400
TZNAME:EDT
DTSTART:20270314T070000
END:DAYLIGHT
BEGIN:STANDARD
TZOFFSETFROM:-0400
TZOFFSETTO:-0500
TZNAME:EST
DTSTART:20271107T060000
END:STANDARD
BEGIN:DAYLIGHT
TZOFFSETFROM:-0500
TZOFFSETTO:-0400
TZNAME:EDT
DTSTART:20280312T070000
END:DAYLIGHT
BEGIN:STANDARD
TZOFFSETFROM:-0400
TZOFFSETTO:-0500
TZNAME:EST
DTSTART:20281105T060000
END:STANDARD
END:VTIMEZONE
BEGIN:VEVENT
DTSTART;TZID=America/New_York:20270202T080000
DTEND;TZID=America/New_York:20270202T100000
DTSTAMP:20260424T040855
CREATED:20250731T183017Z
LAST-MODIFIED:20250731T183237Z
UID:10007828-1801555200-1801562400@www.naplesgarden.org
SUMMARY:Birding in the Garden
DESCRIPTION:Discover the avian species that call the Garden home as you join our birding volunteers on this weekly morning walk in our 90-acre Preserve. Plus\, scope out breathtaking views of restored native Florida wetlands from your vantage point on the Jim and Linda White Birding Tower. \n\n\n\n \n\n\n\nMeet at the Smith Entry Prow; these informal\, conversational birding walks depart at 8am. \n\n\n\n\nPurchase Garden Admission\n\n\n\n\nIncluded with Garden admission; free for Members. \n\n\n\nEvery Garden admission ticket or membership purchase helps to support Naples Botanical Garden’s conservation efforts.
URL:https://www.naplesgarden.org/events/birding-in-the-garden-2/2027-02-02/
ATTACH;FMTTYPE=image/jpeg:https://www.naplesgarden.org/wp-content/uploads/2023/11/Botanical-18171-scaled.jpg
END:VEVENT
BEGIN:VEVENT
DTSTART;TZID=America/New_York:20270209T080000
DTEND;TZID=America/New_York:20270209T100000
DTSTAMP:20260424T040855
CREATED:20250731T183017Z
LAST-MODIFIED:20250731T183237Z
UID:10007829-1802160000-1802167200@www.naplesgarden.org
SUMMARY:Birding in the Garden
DESCRIPTION:Discover the avian species that call the Garden home as you join our birding volunteers on this weekly morning walk in our 90-acre Preserve. Plus\, scope out breathtaking views of restored native Florida wetlands from your vantage point on the Jim and Linda White Birding Tower. \n\n\n\n \n\n\n\nMeet at the Smith Entry Prow; these informal\, conversational birding walks depart at 8am. \n\n\n\n\nPurchase Garden Admission\n\n\n\n\nIncluded with Garden admission; free for Members. \n\n\n\nEvery Garden admission ticket or membership purchase helps to support Naples Botanical Garden’s conservation efforts.
URL:https://www.naplesgarden.org/events/birding-in-the-garden-2/2027-02-09/
ATTACH;FMTTYPE=image/jpeg:https://www.naplesgarden.org/wp-content/uploads/2023/11/Botanical-18171-scaled.jpg
END:VEVENT
BEGIN:VEVENT
DTSTART;TZID=America/New_York:20270216T080000
DTEND;TZID=America/New_York:20270216T100000
DTSTAMP:20260424T040855
CREATED:20250731T183017Z
LAST-MODIFIED:20250731T183237Z
UID:10007830-1802764800-1802772000@www.naplesgarden.org
SUMMARY:Birding in the Garden
DESCRIPTION:Discover the avian species that call the Garden home as you join our birding volunteers on this weekly morning walk in our 90-acre Preserve. Plus\, scope out breathtaking views of restored native Florida wetlands from your vantage point on the Jim and Linda White Birding Tower. \n\n\n\n \n\n\n\nMeet at the Smith Entry Prow; these informal\, conversational birding walks depart at 8am. \n\n\n\n\nPurchase Garden Admission\n\n\n\n\nIncluded with Garden admission; free for Members. \n\n\n\nEvery Garden admission ticket or membership purchase helps to support Naples Botanical Garden’s conservation efforts.
URL:https://www.naplesgarden.org/events/birding-in-the-garden-2/2027-02-16/
ATTACH;FMTTYPE=image/jpeg:https://www.naplesgarden.org/wp-content/uploads/2023/11/Botanical-18171-scaled.jpg
END:VEVENT
BEGIN:VEVENT
DTSTART;TZID=America/New_York:20270223T080000
DTEND;TZID=America/New_York:20270223T100000
DTSTAMP:20260424T040855
CREATED:20250731T183017Z
LAST-MODIFIED:20250731T183237Z
UID:10007831-1803369600-1803376800@www.naplesgarden.org
SUMMARY:Birding in the Garden
DESCRIPTION:Discover the avian species that call the Garden home as you join our birding volunteers on this weekly morning walk in our 90-acre Preserve. Plus\, scope out breathtaking views of restored native Florida wetlands from your vantage point on the Jim and Linda White Birding Tower. \n\n\n\n \n\n\n\nMeet at the Smith Entry Prow; these informal\, conversational birding walks depart at 8am. \n\n\n\n\nPurchase Garden Admission\n\n\n\n\nIncluded with Garden admission; free for Members. \n\n\n\nEvery Garden admission ticket or membership purchase helps to support Naples Botanical Garden’s conservation efforts.
URL:https://www.naplesgarden.org/events/birding-in-the-garden-2/2027-02-23/
ATTACH;FMTTYPE=image/jpeg:https://www.naplesgarden.org/wp-content/uploads/2023/11/Botanical-18171-scaled.jpg
END:VEVENT
END:VCALENDAR